BEGIN:VCALENDAR
VERSION:2.0
PRODID:-//Smeura - Sterilizări gratuite - Tierhilfe Hoffnung - ECPv5.16.3.1//NONSGML v1.0//EN
CALSCALE:GREGORIAN
METHOD:PUBLISH
X-ORIGINAL-URL:https://smeura.com
X-WR-CALDESC:Events for Smeura - Sterilizări gratuite - Tierhilfe Hoffnung
REFRESH-INTERVAL;VALUE=DURATION:PT1H
X-Robots-Tag:noindex
X-PUBLISHED-TTL:PT1H
BEGIN:VTIMEZONE
TZID:UTC
BEGIN:STANDARD
TZOFFSETFROM:+0000
TZOFFSETTO:+0000
TZNAME:UTC
DTSTART:20240101T000000
END:STANDARD
END:VTIMEZONE
BEGIN:VEVENT
DTSTART;TZID=UTC:20241105T080000
DTEND;TZID=UTC:20241105T153000
DTSTAMP:20260424T083852
CREATED:20241031T125456Z
LAST-MODIFIED:20241031T125510Z
UID:5563-1730793600-1730820600@smeura.com
SUMMARY:Centru de Sterilizare si Inregistrare-Smeura
DESCRIPTION:
URL:https://smeura.com/event/centru-de-sterilizare-si-inregistrare-smeura-136/
ORGANIZER;CN="Tierhilfe%20Hoffnung%20%E2%80%93%20Smeura%20Sterilizari%20gratuite":MAILTO:planificaresterilizari@yahoo.com
END:VEVENT
BEGIN:VEVENT
DTSTART;TZID=UTC:20241105T090000
DTEND;TZID=UTC:20241105T140000
DTSTAMP:20260424T083852
CREATED:20241031T131606Z
LAST-MODIFIED:20241031T131609Z
UID:5616-1730797200-1730815200@smeura.com
SUMMARY:Cepari
DESCRIPTION:
URL:https://smeura.com/event/cepari-26/
ORGANIZER;CN="Tierhilfe%20Hoffnung%20%E2%80%93%20Smeura%20Sterilizari%20gratuite":MAILTO:planificaresterilizari@yahoo.com
END:VEVENT
BEGIN:VEVENT
DTSTART;TZID=UTC:20241105T090000
DTEND;TZID=UTC:20241105T140000
DTSTAMP:20260424T083852
CREATED:20241031T131635Z
LAST-MODIFIED:20241031T131643Z
UID:5618-1730797200-1730815200@smeura.com
SUMMARY:Aninoasa
DESCRIPTION:
URL:https://smeura.com/event/aninoasa-5/
ORGANIZER;CN="Tierhilfe%20Hoffnung%20%E2%80%93%20Smeura%20Sterilizari%20gratuite":MAILTO:planificaresterilizari@yahoo.com
END:VEVENT
BEGIN:VEVENT
DTSTART;TZID=UTC:20241105T090000
DTEND;TZID=UTC:20241105T140000
DTSTAMP:20260424T083852
CREATED:20241031T131717Z
LAST-MODIFIED:20241031T131726Z
UID:5620-1730797200-1730815200@smeura.com
SUMMARY:Lunca Corbului
DESCRIPTION:
URL:https://smeura.com/event/lunca-corbului-4/
ORGANIZER;CN="Tierhilfe%20Hoffnung%20%E2%80%93%20Smeura%20Sterilizari%20gratuite":MAILTO:planificaresterilizari@yahoo.com
END:VEVENT
END:VCALENDAR